BEGIN:VCALENDAR
VERSION:2.0
PRODID:-//Malaysian Association of Paediatric Surgery - ECPv6.10.0//NONSGML v1.0//EN
CALSCALE:GREGORIAN
METHOD:PUBLISH
X-WR-CALNAME:Malaysian Association of Paediatric Surgery
X-ORIGINAL-URL:https://maps-malaysia.org
X-WR-CALDESC:Events for Malaysian Association of Paediatric Surgery
REFRESH-INTERVAL;VALUE=DURATION:PT1H
X-Robots-Tag:noindex
X-PUBLISHED-TTL:PT1H
BEGIN:VTIMEZONE
TZID:Asia/Kuala_Lumpur
BEGIN:STANDARD
TZOFFSETFROM:+0800
TZOFFSETTO:+0800
TZNAME:+08
DTSTART:20250101T000000
END:STANDARD
END:VTIMEZONE
BEGIN:VEVENT
DTSTART;TZID=Asia/Kuala_Lumpur:20250701T210000
DTEND;TZID=Asia/Kuala_Lumpur:20250701T220000
DTSTAMP:20260426T002742
CREATED:20250621T155017Z
LAST-MODIFIED:20250621T155145Z
UID:4173-1751403600-1751407200@maps-malaysia.org
SUMMARY:MAP Clinical Case Discussion July 2025
DESCRIPTION:Join our monthly clinical case discussions to share ideas on managing cases.You might learn a new thing or two!
URL:https://maps-malaysia.org/event/map-clinical-case-discussion-july-2025-2/
CATEGORIES:CME
ATTACH;FMTTYPE=image/jpeg:https://maps-malaysia.org/wp-content/uploads/2025/06/whatsapp-image-2025-06-20-at-9.09.55-pm.jpeg
ORGANIZER;CN="MAPS Malaysia":MAILTO:info@maps-malaysia.org
END:VEVENT
BEGIN:VEVENT
DTSTART;TZID=Asia/Kuala_Lumpur:20250722T210000
DTEND;TZID=Asia/Kuala_Lumpur:20250722T220000
DTSTAMP:20260426T002742
CREATED:20250709T031138Z
LAST-MODIFIED:20250709T031709Z
UID:4204-1753218000-1753221600@maps-malaysia.org
SUMMARY:MAP Clinical Case Discussion July 2025
DESCRIPTION:Join our monthly clinical case discussions to share ideas on managing cases.You might learn a new thing or two!
URL:https://maps-malaysia.org/event/map-clinical-case-discussion-july-2025-2-2/
CATEGORIES:CME
ATTACH;FMTTYPE=image/jpeg:https://maps-malaysia.org/wp-content/uploads/2025/07/whatsapp-image-2025-07-08-at-11.38.45-am-copy.jpg
ORGANIZER;CN="MAPS Malaysia":MAILTO:info@maps-malaysia.org
END:VEVENT
END:VCALENDAR