BEGIN:VCALENDAR
VERSION:2.0
PRODID:-//Malaysian Association of Paediatric Surgery - ECPv6.10.0//NONSGML v1.0//EN
CALSCALE:GREGORIAN
METHOD:PUBLISH
X-ORIGINAL-URL:https://maps-malaysia.org
X-WR-CALDESC:Events for Malaysian Association of Paediatric Surgery
REFRESH-INTERVAL;VALUE=DURATION:PT1H
X-Robots-Tag:noindex
X-PUBLISHED-TTL:PT1H
BEGIN:VTIMEZONE
TZID:Asia/Kuala_Lumpur
BEGIN:STANDARD
TZOFFSETFROM:+0800
TZOFFSETTO:+0800
TZNAME:+08
DTSTART:20210101T000000
END:STANDARD
END:VTIMEZONE
BEGIN:VEVENT
DTSTART;TZID=Asia/Kuala_Lumpur:20260421T210000
DTEND;TZID=Asia/Kuala_Lumpur:20260421T220000
DTSTAMP:20260425T092312
CREATED:20260320T040138Z
LAST-MODIFIED:20260320T040339Z
UID:4583-1776805200-1776808800@maps-malaysia.org
SUMMARY:MAP Clinical Case Discussion April 2026
DESCRIPTION:Join our monthly clinical case discussions to share ideas on managing cases. You might learn a new thing or two!
URL:https://maps-malaysia.org/event/map-clinical-case-discussion-oct-2025-copy-copy-copy-copy/
CATEGORIES:CME
ATTACH;FMTTYPE=image/jpeg:https://maps-malaysia.org/wp-content/uploads/2026/03/whatsapp-image-2026-03-18-at-2.12.31-pm.jpeg
ORGANIZER;CN="MAPS Malaysia":MAILTO:info@maps-malaysia.org
END:VEVENT
BEGIN:VEVENT
DTSTART;TZID=Asia/Kuala_Lumpur:20260331T210000
DTEND;TZID=Asia/Kuala_Lumpur:20260331T220000
DTSTAMP:20260425T092312
CREATED:20260320T035944Z
LAST-MODIFIED:20260320T040437Z
UID:4581-1774990800-1774994400@maps-malaysia.org
SUMMARY:MAP Clinical Case Discussion March 2026
DESCRIPTION:Join our monthly clinical case discussions to share ideas on managing cases. You might learn a new thing or two!
URL:https://maps-malaysia.org/event/map-clinical-case-discussion-oct-2025-copy-copy-copy/
CATEGORIES:CME
ATTACH;FMTTYPE=image/png:https://maps-malaysia.org/wp-content/uploads/2026/03/whatsapp-image-2026-03-18-at-2.12.07-pm-copy.png
ORGANIZER;CN="MAPS Malaysia":MAILTO:info@maps-malaysia.org
END:VEVENT
BEGIN:VEVENT
DTSTART;TZID=Asia/Kuala_Lumpur:20260210T210000
DTEND;TZID=Asia/Kuala_Lumpur:20260210T220000
DTSTAMP:20260425T092312
CREATED:20260204T122659Z
LAST-MODIFIED:20260205T095925Z
UID:4479-1770757200-1770760800@maps-malaysia.org
SUMMARY:MAP Clinical Case Discussion February 2026
DESCRIPTION:Join our monthly clinical case discussions to share ideas on managing cases. You might learn a new thing or two!
URL:https://maps-malaysia.org/event/map-clinical-case-discussion-oct-2025-copy-copy/
CATEGORIES:CME
ATTACH;FMTTYPE=image/png:https://maps-malaysia.org/wp-content/uploads/2026/02/cme-maps-10-feb-2025.png
ORGANIZER;CN="MAPS Malaysia":MAILTO:info@maps-malaysia.org
END:VEVENT
BEGIN:VEVENT
DTSTART;TZID=Asia/Kuala_Lumpur:20251223T210000
DTEND;TZID=Asia/Kuala_Lumpur:20251223T220000
DTSTAMP:20260425T092312
CREATED:20251201T072633Z
LAST-MODIFIED:20251201T072804Z
UID:4443-1766523600-1766527200@maps-malaysia.org
SUMMARY:MAP Clinical Case Discussion December 2025
DESCRIPTION:Join our monthly clinical case discussions to share ideas on managing cases. You might learn a new thing or two!
URL:https://maps-malaysia.org/event/map-clinical-case-discussion-oct-2025-copy/
CATEGORIES:CME
ATTACH;FMTTYPE=image/jpeg:https://maps-malaysia.org/wp-content/uploads/2025/12/whatsapp-image-2025-12-01-at-11.45.23-am-copy.jpg
ORGANIZER;CN="MAPS Malaysia":MAILTO:info@maps-malaysia.org
END:VEVENT
BEGIN:VEVENT
DTSTART;TZID=Asia/Kuala_Lumpur:20251014T210000
DTEND;TZID=Asia/Kuala_Lumpur:20251014T220000
DTSTAMP:20260425T092312
CREATED:20250911T104056Z
LAST-MODIFIED:20250911T104220Z
UID:4353-1760475600-1760479200@maps-malaysia.org
SUMMARY:MAP Clinical Case Discussion October 2025
DESCRIPTION:Join our monthly clinical case discussions to share ideas on managing cases. You might learn a new thing or two!
URL:https://maps-malaysia.org/event/map-clinical-case-discussion-oct-2025/
CATEGORIES:CME
ATTACH;FMTTYPE=image/jpeg:https://maps-malaysia.org/wp-content/uploads/2025/09/whatsapp-image-2025-09-11-at-6.07.32-pm-copy.jpg
ORGANIZER;CN="MAPS Malaysia":MAILTO:info@maps-malaysia.org
END:VEVENT
BEGIN:VEVENT
DTSTART;TZID=Asia/Kuala_Lumpur:20250930T210000
DTEND;TZID=Asia/Kuala_Lumpur:20250930T220000
DTSTAMP:20260425T092312
CREATED:20250826T105352Z
LAST-MODIFIED:20250826T105531Z
UID:4285-1759266000-1759269600@maps-malaysia.org
SUMMARY:MAP Clinical Case Discussion September 2025 Part 2
DESCRIPTION:Join our monthly clinical case discussions to share ideas on managing cases. You might learn a new thing or two!
URL:https://maps-malaysia.org/event/map-clinical-case-discussion-sep-2025-2/
CATEGORIES:CME
ATTACH;FMTTYPE=image/jpeg:https://maps-malaysia.org/wp-content/uploads/2025/08/cme-oct.jpg
ORGANIZER;CN="MAPS Malaysia":MAILTO:info@maps-malaysia.org
END:VEVENT
BEGIN:VEVENT
DTSTART;TZID=Asia/Kuala_Lumpur:20250902T210000
DTEND;TZID=Asia/Kuala_Lumpur:20250902T220000
DTSTAMP:20260425T092312
CREATED:20250728T133428Z
LAST-MODIFIED:20250728T133720Z
UID:4272-1756846800-1756850400@maps-malaysia.org
SUMMARY:MAP Clinical Case Discussion September 2025
DESCRIPTION:Join our monthly clinical case discussions to share ideas on managing cases. You might learn a new thing or two!
URL:https://maps-malaysia.org/event/map-clinical-case-discussion-sep-2025/
CATEGORIES:CME
ATTACH;FMTTYPE=image/jpeg:https://maps-malaysia.org/wp-content/uploads/2025/07/whatsapp-image-2025-07-28-at-2.14.01-pm-copy.jpg
ORGANIZER;CN="MAPS Malaysia":MAILTO:info@maps-malaysia.org
END:VEVENT
BEGIN:VEVENT
DTSTART;TZID=Asia/Kuala_Lumpur:20250812T210000
DTEND;TZID=Asia/Kuala_Lumpur:20250812T220000
DTSTAMP:20260425T092312
CREATED:20250711T033424Z
LAST-MODIFIED:20250711T034259Z
UID:4208-1755032400-1755036000@maps-malaysia.org
SUMMARY:MAP Clinical Case Discussion August 2025
DESCRIPTION:Join our monthly clinical case discussions to share ideas on managing cases.You might learn a new thing or two!
URL:https://maps-malaysia.org/event/map-clinical-case-discussion-aug-2025/
CATEGORIES:CME
ATTACH;FMTTYPE=image/jpeg:https://maps-malaysia.org/wp-content/uploads/2025/07/whatsapp-image-2025-07-10-at-11.49.10-pm-copy.jpg
ORGANIZER;CN="MAPS Malaysia":MAILTO:info@maps-malaysia.org
END:VEVENT
BEGIN:VEVENT
DTSTART;TZID=Asia/Kuala_Lumpur:20250722T210000
DTEND;TZID=Asia/Kuala_Lumpur:20250722T220000
DTSTAMP:20260425T092312
CREATED:20250709T031138Z
LAST-MODIFIED:20250709T031709Z
UID:4204-1753218000-1753221600@maps-malaysia.org
SUMMARY:MAP Clinical Case Discussion July 2025
DESCRIPTION:Join our monthly clinical case discussions to share ideas on managing cases.You might learn a new thing or two!
URL:https://maps-malaysia.org/event/map-clinical-case-discussion-july-2025-2-2/
CATEGORIES:CME
ATTACH;FMTTYPE=image/jpeg:https://maps-malaysia.org/wp-content/uploads/2025/07/whatsapp-image-2025-07-08-at-11.38.45-am-copy.jpg
ORGANIZER;CN="MAPS Malaysia":MAILTO:info@maps-malaysia.org
END:VEVENT
BEGIN:VEVENT
DTSTART;TZID=Asia/Kuala_Lumpur:20250701T210000
DTEND;TZID=Asia/Kuala_Lumpur:20250701T220000
DTSTAMP:20260425T092312
CREATED:20250621T155017Z
LAST-MODIFIED:20250621T155145Z
UID:4173-1751403600-1751407200@maps-malaysia.org
SUMMARY:MAP Clinical Case Discussion July 2025
DESCRIPTION:Join our monthly clinical case discussions to share ideas on managing cases.You might learn a new thing or two!
URL:https://maps-malaysia.org/event/map-clinical-case-discussion-july-2025-2/
CATEGORIES:CME
ATTACH;FMTTYPE=image/jpeg:https://maps-malaysia.org/wp-content/uploads/2025/06/whatsapp-image-2025-06-20-at-9.09.55-pm.jpeg
ORGANIZER;CN="MAPS Malaysia":MAILTO:info@maps-malaysia.org
END:VEVENT
BEGIN:VEVENT
DTSTART;TZID=Asia/Kuala_Lumpur:20250610T210000
DTEND;TZID=Asia/Kuala_Lumpur:20250610T220000
DTSTAMP:20260425T092312
CREATED:20250501T133233Z
LAST-MODIFIED:20250501T133353Z
UID:4017-1749589200-1749592800@maps-malaysia.org
SUMMARY:MAP Clinical Case Discussion June 2025
DESCRIPTION:Join our monthly clinical case discussions to share ideas on managing cases.You might learn a new thing or two!
URL:https://maps-malaysia.org/event/map-clinical-case-discussion-june-2025/
CATEGORIES:CME
ATTACH;FMTTYPE=image/jpeg:https://maps-malaysia.org/wp-content/uploads/2025/05/whatsapp-image-2025-05-01-at-9.17.46-pm.jpeg
ORGANIZER;CN="MAPS Malaysia":MAILTO:info@maps-malaysia.org
END:VEVENT
BEGIN:VEVENT
DTSTART;TZID=Asia/Kuala_Lumpur:20250520T210000
DTEND;TZID=Asia/Kuala_Lumpur:20250520T220000
DTSTAMP:20260425T092312
CREATED:20250421T123819Z
LAST-MODIFIED:20250421T123946Z
UID:3940-1747774800-1747778400@maps-malaysia.org
SUMMARY:MAP Clinical Case Discussion May 2025
DESCRIPTION:Join our monthly clinical case discussions to share ideas on managing cases.You might learn a new thing or two!
URL:https://maps-malaysia.org/event/map-clinical-case-discussion-may-2025/
CATEGORIES:CME
ATTACH;FMTTYPE=image/jpeg:https://maps-malaysia.org/wp-content/uploads/2025/04/whatsapp-image-2025-04-21-at-8.19.38-pm.jpeg
ORGANIZER;CN="MAPS Malaysia":MAILTO:info@maps-malaysia.org
END:VEVENT
BEGIN:VEVENT
DTSTART;TZID=Asia/Kuala_Lumpur:20250519T173000
DTEND;TZID=Asia/Kuala_Lumpur:20250519T203000
DTSTAMP:20260425T092312
CREATED:20250516T105350Z
LAST-MODIFIED:20250516T105350Z
UID:4043-1747675800-1747686600@maps-malaysia.org
SUMMARY:Wilms Tumour Symposium - A Two Part Series
DESCRIPTION:The Wilms Tumour Symposium – A Two-Part Series\, themed “Revisiting the Basics & Embracing the New”\, will take place on the 19th and 26th of May 2025 from 5:50 PM to 8:30 PM (GMT+8). Organized around the latest SIOP-RTSG Umbrella Protocol\, the symposium brings together paediatric surgeons\, oncologists\, radiologists\, and pathologists from Malaysia and international centres to discuss comprehensive\, updated approaches to managing Wilms tumour. \nOn Day 1 (19 May)\, sessions will cover the challenges of treating renal tumours in low- and middle-income countries\, an introduction to Wilms tumour epidemiology\, and the role of CT and MRI imaging in diagnosis. Discussions will also explore biopsy strategies and fundamentals of chemotherapy in Wilms tumour management. \nDay 2 (26 May) will focus on the surgical approach to nephrectomy and lymph node dissection\, special surgical considerations in complex cases such as bilateral tumours and IVC thrombus\, pathological features of Wilms tumour\, and post-operative decision-making strategies. The symposium aims to update practitioners on both foundational knowledge and emerging practices in paediatric renal oncology. \nCheck out the full program in the link here.
URL:https://maps-malaysia.org/event/wilms-tumour-symposium-a-two-part-series/
CATEGORIES:CME,Workshop / Seminar
ATTACH;FMTTYPE=image/png:https://maps-malaysia.org/wp-content/uploads/2025/05/screenshot-2025-05-16-at-3.57.07-pm.png
ORGANIZER;CN="MAPS Malaysia":MAILTO:info@maps-malaysia.org
END:VEVENT
BEGIN:VEVENT
DTSTART;TZID=Asia/Kuala_Lumpur:20250429T210000
DTEND;TZID=Asia/Kuala_Lumpur:20250429T220000
DTSTAMP:20260425T092312
CREATED:20250421T123555Z
LAST-MODIFIED:20250421T123717Z
UID:3934-1745960400-1745964000@maps-malaysia.org
SUMMARY:MAP Clinical Case Discussion April 2025
DESCRIPTION:Join our monthly clinical case discussions to share ideas on managing cases.You might learn a new thing or two!
URL:https://maps-malaysia.org/event/map-clinical-case-discussion-april-2025/
CATEGORIES:CME
ATTACH;FMTTYPE=image/jpeg:https://maps-malaysia.org/wp-content/uploads/2025/04/whatsapp-image-2025-04-21-at-8.20.25-pm.jpeg
ORGANIZER;CN="MAPS Malaysia":MAILTO:info@maps-malaysia.org
END:VEVENT
BEGIN:VEVENT
DTSTART;TZID=Asia/Kuala_Lumpur:20250225T210000
DTEND;TZID=Asia/Kuala_Lumpur:20250225T230000
DTSTAMP:20260425T092312
CREATED:20250222T083637Z
LAST-MODIFIED:20250222T090438Z
UID:3599-1740517200-1740524400@maps-malaysia.org
SUMMARY:Clinical Case Discussion 2025
DESCRIPTION:Join our online monthly clinical case discussions! The cases for this session will be presented by paediatric surgeons from Hospital Tengku Ampuan Rahimah\, Klang\, and University Malaya Medical Center. \n.
URL:https://maps-malaysia.org/event/clinical-case-discussion-2025/
CATEGORIES:CME
ORGANIZER;CN="MAPS Malaysia":MAILTO:info@maps-malaysia.org
END:VEVENT
BEGIN:VEVENT
DTSTART;TZID=Asia/Kuala_Lumpur:20210710T100000
DTEND;TZID=Asia/Kuala_Lumpur:20210710T120000
DTSTAMP:20260425T092312
CREATED:20250205T091056Z
LAST-MODIFIED:20250205T091144Z
UID:3203-1625911200-1625918400@maps-malaysia.org
SUMMARY:MAPS Session for Trainee [Part 2]
DESCRIPTION:Life as a New Specialist: What is Expected from new specialist \nModerator: Ms Tammny Teoh \nSpeaker:\nMs Hazlina (HWKKS Sabah)\nMs Janua (HSA Johor)\nMr Yusran (HTA Kuala Lumpur)\nMs Ava Tay (Melaka Manipal MC) \nAttendance:
URL:https://maps-malaysia.org/event/maps-session-for-trainee-part-2/
LOCATION:Webinar (Online)
CATEGORIES:CME,Events
ATTACH;FMTTYPE=image/jpeg:https://maps-malaysia.org/wp-content/uploads/2025/02/seminar-20210710.jpg
ORGANIZER;CN="MAPS Malaysia":MAILTO:info@maps-malaysia.org
END:VEVENT
BEGIN:VEVENT
DTSTART;TZID=Asia/Kuala_Lumpur:20210605T100000
DTEND;TZID=Asia/Kuala_Lumpur:20210605T120000
DTSTAMP:20260425T092312
CREATED:20250205T090730Z
LAST-MODIFIED:20250205T091154Z
UID:3199-1622887200-1622894400@maps-malaysia.org
SUMMARY:MAPS Session for Trainee [Part 1]
DESCRIPTION:Life as a New Specialist: What I Wish I had Known \nModerator: Mr Anand (UMMC) \nSpeaker:\nMs Nur Aini (HWKKS Sabah)\nMs Nur Akmal (HSNZ Terengganu)\nMr Muhammad Firdaus (HRPB Perak) \nAttendance: 74
URL:https://maps-malaysia.org/event/maps-session-for-trainee-part-1/
LOCATION:Webinar (Online)
CATEGORIES:CME,Events
ATTACH;FMTTYPE=image/jpeg:https://maps-malaysia.org/wp-content/uploads/2025/02/seminar-20210605.jpg
ORGANIZER;CN="MAPS Malaysia":MAILTO:info@maps-malaysia.org
END:VEVENT
END:VCALENDAR