BEGIN:VCALENDAR
VERSION:2.0
PRODID:-//Malaysian Association of Paediatric Surgery - ECPv6.10.0//NONSGML v1.0//EN
CALSCALE:GREGORIAN
METHOD:PUBLISH
X-WR-CALNAME:Malaysian Association of Paediatric Surgery
X-ORIGINAL-URL:https://maps-malaysia.org
X-WR-CALDESC:Events for Malaysian Association of Paediatric Surgery
REFRESH-INTERVAL;VALUE=DURATION:PT1H
X-Robots-Tag:noindex
X-PUBLISHED-TTL:PT1H
BEGIN:VTIMEZONE
TZID:Asia/Kuala_Lumpur
BEGIN:STANDARD
TZOFFSETFROM:+0800
TZOFFSETTO:+0800
TZNAME:+08
DTSTART:20210101T000000
END:STANDARD
END:VTIMEZONE
BEGIN:VEVENT
DTSTART;TZID=Asia/Kuala_Lumpur:20250519T173000
DTEND;TZID=Asia/Kuala_Lumpur:20250519T203000
DTSTAMP:20260425T110136
CREATED:20250516T105350Z
LAST-MODIFIED:20250516T105350Z
UID:4043-1747675800-1747686600@maps-malaysia.org
SUMMARY:Wilms Tumour Symposium - A Two Part Series
DESCRIPTION:The Wilms Tumour Symposium – A Two-Part Series\, themed “Revisiting the Basics & Embracing the New”\, will take place on the 19th and 26th of May 2025 from 5:50 PM to 8:30 PM (GMT+8). Organized around the latest SIOP-RTSG Umbrella Protocol\, the symposium brings together paediatric surgeons\, oncologists\, radiologists\, and pathologists from Malaysia and international centres to discuss comprehensive\, updated approaches to managing Wilms tumour. \nOn Day 1 (19 May)\, sessions will cover the challenges of treating renal tumours in low- and middle-income countries\, an introduction to Wilms tumour epidemiology\, and the role of CT and MRI imaging in diagnosis. Discussions will also explore biopsy strategies and fundamentals of chemotherapy in Wilms tumour management. \nDay 2 (26 May) will focus on the surgical approach to nephrectomy and lymph node dissection\, special surgical considerations in complex cases such as bilateral tumours and IVC thrombus\, pathological features of Wilms tumour\, and post-operative decision-making strategies. The symposium aims to update practitioners on both foundational knowledge and emerging practices in paediatric renal oncology. \nCheck out the full program in the link here.
URL:https://maps-malaysia.org/event/wilms-tumour-symposium-a-two-part-series/
CATEGORIES:CME,Workshop / Seminar
ATTACH;FMTTYPE=image/png:https://maps-malaysia.org/wp-content/uploads/2025/05/screenshot-2025-05-16-at-3.57.07-pm.png
ORGANIZER;CN="MAPS Malaysia":MAILTO:info@maps-malaysia.org
END:VEVENT
BEGIN:VEVENT
DTSTART;TZID=Asia/Kuala_Lumpur:20250429T210000
DTEND;TZID=Asia/Kuala_Lumpur:20250429T220000
DTSTAMP:20260425T110136
CREATED:20250421T123555Z
LAST-MODIFIED:20250421T123717Z
UID:3934-1745960400-1745964000@maps-malaysia.org
SUMMARY:MAP Clinical Case Discussion April 2025
DESCRIPTION:Join our monthly clinical case discussions to share ideas on managing cases.You might learn a new thing or two!
URL:https://maps-malaysia.org/event/map-clinical-case-discussion-april-2025/
CATEGORIES:CME
ATTACH;FMTTYPE=image/jpeg:https://maps-malaysia.org/wp-content/uploads/2025/04/whatsapp-image-2025-04-21-at-8.20.25-pm.jpeg
ORGANIZER;CN="MAPS Malaysia":MAILTO:info@maps-malaysia.org
END:VEVENT
BEGIN:VEVENT
DTSTART;TZID=Asia/Kuala_Lumpur:20250225T210000
DTEND;TZID=Asia/Kuala_Lumpur:20250225T230000
DTSTAMP:20260425T110136
CREATED:20250222T083637Z
LAST-MODIFIED:20250222T090438Z
UID:3599-1740517200-1740524400@maps-malaysia.org
SUMMARY:Clinical Case Discussion 2025
DESCRIPTION:Join our online monthly clinical case discussions! The cases for this session will be presented by paediatric surgeons from Hospital Tengku Ampuan Rahimah\, Klang\, and University Malaya Medical Center. \n.
URL:https://maps-malaysia.org/event/clinical-case-discussion-2025/
CATEGORIES:CME
ORGANIZER;CN="MAPS Malaysia":MAILTO:info@maps-malaysia.org
END:VEVENT
BEGIN:VEVENT
DTSTART;TZID=Asia/Kuala_Lumpur:20210710T100000
DTEND;TZID=Asia/Kuala_Lumpur:20210710T120000
DTSTAMP:20260425T110136
CREATED:20250205T091056Z
LAST-MODIFIED:20250205T091144Z
UID:3203-1625911200-1625918400@maps-malaysia.org
SUMMARY:MAPS Session for Trainee [Part 2]
DESCRIPTION:Life as a New Specialist: What is Expected from new specialist \nModerator: Ms Tammny Teoh \nSpeaker:\nMs Hazlina (HWKKS Sabah)\nMs Janua (HSA Johor)\nMr Yusran (HTA Kuala Lumpur)\nMs Ava Tay (Melaka Manipal MC) \nAttendance:
URL:https://maps-malaysia.org/event/maps-session-for-trainee-part-2/
LOCATION:Webinar (Online)
CATEGORIES:CME,Events
ATTACH;FMTTYPE=image/jpeg:https://maps-malaysia.org/wp-content/uploads/2025/02/seminar-20210710.jpg
ORGANIZER;CN="MAPS Malaysia":MAILTO:info@maps-malaysia.org
END:VEVENT
BEGIN:VEVENT
DTSTART;TZID=Asia/Kuala_Lumpur:20210605T100000
DTEND;TZID=Asia/Kuala_Lumpur:20210605T120000
DTSTAMP:20260425T110136
CREATED:20250205T090730Z
LAST-MODIFIED:20250205T091154Z
UID:3199-1622887200-1622894400@maps-malaysia.org
SUMMARY:MAPS Session for Trainee [Part 1]
DESCRIPTION:Life as a New Specialist: What I Wish I had Known \nModerator: Mr Anand (UMMC) \nSpeaker:\nMs Nur Aini (HWKKS Sabah)\nMs Nur Akmal (HSNZ Terengganu)\nMr Muhammad Firdaus (HRPB Perak) \nAttendance: 74
URL:https://maps-malaysia.org/event/maps-session-for-trainee-part-1/
LOCATION:Webinar (Online)
CATEGORIES:CME,Events
ATTACH;FMTTYPE=image/jpeg:https://maps-malaysia.org/wp-content/uploads/2025/02/seminar-20210605.jpg
ORGANIZER;CN="MAPS Malaysia":MAILTO:info@maps-malaysia.org
END:VEVENT
END:VCALENDAR