BEGIN:VCALENDAR
VERSION:2.0
PRODID:-//Malaysian Association of Paediatric Surgery - ECPv6.10.0//NONSGML v1.0//EN
CALSCALE:GREGORIAN
METHOD:PUBLISH
X-WR-CALNAME:Malaysian Association of Paediatric Surgery
X-ORIGINAL-URL:https://maps-malaysia.org
X-WR-CALDESC:Events for Malaysian Association of Paediatric Surgery
REFRESH-INTERVAL;VALUE=DURATION:PT1H
X-Robots-Tag:noindex
X-PUBLISHED-TTL:PT1H
BEGIN:VTIMEZONE
TZID:Asia/Kuala_Lumpur
BEGIN:STANDARD
TZOFFSETFROM:+0800
TZOFFSETTO:+0800
TZNAME:+08
DTSTART:20250101T000000
END:STANDARD
END:VTIMEZONE
BEGIN:VEVENT
DTSTART;VALUE=DATE:20250912
DTEND;VALUE=DATE:20250914
DTSTAMP:20260425T223625
CREATED:20250723T062836Z
LAST-MODIFIED:20250723T064119Z
UID:4238-1757635200-1757807999@maps-malaysia.org
SUMMARY:Malaysia Trauma & Emergency Surgery Conference 2025
DESCRIPTION:The 1st Malaysia Trauma & Emergency Surgery Conference takes place on 12–13 September 2025 at DoubleTree by Hilton\, Shah Alam. It’s a two‑day\, multidisciplinary event gathering surgeons\, emergency physicians\, critical care specialists\, nurses\, paramedics\, and allied health professionals to explore breakthroughs in trauma and acute-care surgery. \nWhile most of the talks are adult-centric\, a symposium will be dedicated to paediatric surgery discussing resuscitation in paediatric trauma\, managing complex injuries\, and tackling the nuances of surgical against conservative management in trauma patients in sepsis. \nFor more details\, visit the website here.
URL:https://maps-malaysia.org/event/mytesc2025/
LOCATION:Double Tree by Hilton\, Shah Alam
CATEGORIES:Congress,Events
ATTACH;FMTTYPE=image/png:https://maps-malaysia.org/wp-content/uploads/2025/07/screenshot-2025-07-23-at-2.26.08-pm.png
END:VEVENT
END:VCALENDAR