BEGIN:VCALENDAR
VERSION:2.0
PRODID:-//Malaysian Association of Paediatric Surgery - ECPv6.10.0//NONSGML v1.0//EN
CALSCALE:GREGORIAN
METHOD:PUBLISH
X-WR-CALNAME:Malaysian Association of Paediatric Surgery
X-ORIGINAL-URL:https://maps-malaysia.org
X-WR-CALDESC:Events for Malaysian Association of Paediatric Surgery
REFRESH-INTERVAL;VALUE=DURATION:PT1H
X-Robots-Tag:noindex
X-PUBLISHED-TTL:PT1H
BEGIN:VTIMEZONE
TZID:Asia/Kuala_Lumpur
BEGIN:STANDARD
TZOFFSETFROM:+0800
TZOFFSETTO:+0800
TZNAME:+08
DTSTART:20250101T000000
END:STANDARD
END:VTIMEZONE
BEGIN:VEVENT
DTSTART;VALUE=DATE:20250709
DTEND;VALUE=DATE:20250712
DTSTAMP:20260426T040456
CREATED:20250510T151737Z
LAST-MODIFIED:20250510T151737Z
UID:4036-1752019200-1752278399@maps-malaysia.org
SUMMARY:2nd Global Surgery Conference Malaysia 2025
DESCRIPTION:The 2nd Global Surgery Conference Malaysia 2025\, themed “Forging Ahead: Bridging Gaps in Global Surgery\,” will take place from 9–11 July 2025 at Hilton Kota Kinabalu\, Sabah. The conference aims to address disparities in surgical care\, especially in underserved regions\, and will bring together healthcare professionals\, researchers\, and policymakers to foster collaboration and innovation aligned with the Lancet Commission on Global Surgery. \nWhile the only pediatric surgery-focused talk is on the challenges of performing neonatal surgeries in Sabah\, many other sessions will still be relevant to general pediatric surgical practice. The event features scientific presentations\, poster sessions\, and a video competition\, with inclusive registration for both local and international participants. It underscores Malaysia’s ongoing commitment to equitable surgical care for all populations. \nFor more details\, visit the website here.
URL:https://maps-malaysia.org/event/2nd-global-surgery-conference-malaysia-2025/
LOCATION:hilton kota kinabalu\, Kota Kinabalu\, Sabah\, Malaysia
CATEGORIES:Congress,Events
ATTACH;FMTTYPE=image/png:https://maps-malaysia.org/wp-content/uploads/2025/05/screenshot-2025-05-10-at-11.14.04-pm.png
END:VEVENT
END:VCALENDAR