BEGIN:VCALENDAR
VERSION:2.0
PRODID:-//Malaysian Association of Paediatric Surgery - ECPv6.10.0//NONSGML v1.0//EN
CALSCALE:GREGORIAN
METHOD:PUBLISH
X-ORIGINAL-URL:https://maps-malaysia.org
X-WR-CALDESC:Events for Malaysian Association of Paediatric Surgery
REFRESH-INTERVAL;VALUE=DURATION:PT1H
X-Robots-Tag:noindex
X-PUBLISHED-TTL:PT1H
BEGIN:VTIMEZONE
TZID:Asia/Kuala_Lumpur
BEGIN:STANDARD
TZOFFSETFROM:+0800
TZOFFSETTO:+0800
TZNAME:+08
DTSTART:20260101T000000
END:STANDARD
END:VTIMEZONE
BEGIN:VEVENT
DTSTART;TZID=Asia/Kuala_Lumpur:20260711T080000
DTEND;TZID=Asia/Kuala_Lumpur:20260711T170000
DTSTAMP:20260425T091424
CREATED:20260423T001438Z
LAST-MODIFIED:20260423T001438Z
UID:4602-1783756800-1783789200@maps-malaysia.org
SUMMARY:Paediatric Surgical Oncology Webinar - Revisiting Key Concepts and Management
DESCRIPTION:Online webinar cohosted with MMA featuring speakers from US\, Singapore and Denmark. Full program to follow.
URL:https://maps-malaysia.org/event/psonco-webinar-1-2026/
CATEGORIES:Masterclass
END:VEVENT
END:VCALENDAR