BEGIN:VCALENDAR
VERSION:2.0
PRODID:-//Malaysian Association of Paediatric Surgery - ECPv6.10.0//NONSGML v1.0//EN
CALSCALE:GREGORIAN
METHOD:PUBLISH
X-WR-CALNAME:Malaysian Association of Paediatric Surgery
X-ORIGINAL-URL:https://maps-malaysia.org
X-WR-CALDESC:Events for Malaysian Association of Paediatric Surgery
REFRESH-INTERVAL;VALUE=DURATION:PT1H
X-Robots-Tag:noindex
X-PUBLISHED-TTL:PT1H
BEGIN:VTIMEZONE
TZID:Asia/Kuala_Lumpur
BEGIN:STANDARD
TZOFFSETFROM:+0800
TZOFFSETTO:+0800
TZNAME:+08
DTSTART:20260101T000000
END:STANDARD
END:VTIMEZONE
BEGIN:VEVENT
DTSTART;VALUE=DATE:20260127
DTEND;VALUE=DATE:20260129
DTSTAMP:20260425T105530
CREATED:20251106T104039Z
LAST-MODIFIED:20260106T111331Z
UID:4400-1769472000-1769644799@maps-malaysia.org
SUMMARY:Cloacal Anomaly Workshop 2026
DESCRIPTION:The Live Surgery\, Cloacal Anomaly Workshop is back! Tackle complex urological anomalies with guidance from the Masters! Don’t miss this opportunity! Participants are limited to surgeons only (that doesn’t mean the learning stops there).
URL:https://maps-malaysia.org/event/cloacal-anomaly-workshop-2026/
LOCATION:Hospital Tunku Azizah\, Lot 25\, Jalan Raja Muda Abdul Aziz\, Kampung Baru\, Kuala Lumpur\, 50300\, Malaysia
CATEGORIES:Workshop / Seminar
ATTACH;FMTTYPE=image/png:https://maps-malaysia.org/wp-content/uploads/2025/11/whatsapp-image-2026-01-06-at-3.14.13-pm-copy.png
END:VEVENT
END:VCALENDAR