BEGIN:VCALENDAR
VERSION:2.0
PRODID:-//Malaysian Association of Paediatric Surgery - ECPv6.10.0//NONSGML v1.0//EN
CALSCALE:GREGORIAN
METHOD:PUBLISH
X-ORIGINAL-URL:https://maps-malaysia.org
X-WR-CALDESC:Events for Malaysian Association of Paediatric Surgery
REFRESH-INTERVAL;VALUE=DURATION:PT1H
X-Robots-Tag:noindex
X-PUBLISHED-TTL:PT1H
BEGIN:VTIMEZONE
TZID:Asia/Kuala_Lumpur
BEGIN:STANDARD
TZOFFSETFROM:+0800
TZOFFSETTO:+0800
TZNAME:+08
DTSTART:20260101T000000
END:STANDARD
END:VTIMEZONE
BEGIN:VEVENT
DTSTART;VALUE=DATE:20260513
DTEND;VALUE=DATE:20260515
DTSTAMP:20260425T073212
CREATED:20260416T031320Z
LAST-MODIFIED:20260416T032024Z
UID:4593-1778630400-1778803199@maps-malaysia.org
SUMMARY:LATAP Workshop 2026
DESCRIPTION:The Live Surgery\, Laparoscopic Assisted Transanal Pullthrough Workshop is back! Tackle Hirschsrpung’s disease surgery laparoscopically with guidance from the Masters! Don’t miss this opportunity! Participants are limited to 20 surgeons only!
URL:https://maps-malaysia.org/event/latap-workshop-2026/
LOCATION:Hospital Sultanah Bahiyah\, Kedah\, Kedah\, Malaysia
CATEGORIES:Workshop / Seminar
ATTACH;FMTTYPE=image/png:https://maps-malaysia.org/wp-content/uploads/2026/04/latap-workshop-2026.png
END:VEVENT
END:VCALENDAR