BEGIN:VCALENDAR
VERSION:2.0
PRODID:-//Malaysian Association of Paediatric Surgery - ECPv6.10.0//NONSGML v1.0//EN
CALSCALE:GREGORIAN
METHOD:PUBLISH
X-ORIGINAL-URL:https://maps-malaysia.org
X-WR-CALDESC:Events for Malaysian Association of Paediatric Surgery
REFRESH-INTERVAL;VALUE=DURATION:PT1H
X-Robots-Tag:noindex
X-PUBLISHED-TTL:PT1H
BEGIN:VTIMEZONE
TZID:Asia/Kuala_Lumpur
BEGIN:STANDARD
TZOFFSETFROM:+0800
TZOFFSETTO:+0800
TZNAME:+08
DTSTART:20250101T000000
END:STANDARD
END:VTIMEZONE
BEGIN:VEVENT
DTSTART;VALUE=DATE:20250621
DTEND;VALUE=DATE:20250622
DTSTAMP:20260426T003204
CREATED:20250517T144213Z
LAST-MODIFIED:20250517T144213Z
UID:4047-1750464000-1750550399@maps-malaysia.org
SUMMARY:Bowel Anastomosis Workshop\, Pahang
DESCRIPTION:If you are a house officer\, medical officer interested in surgery\, join the Bowel Anastomotic Workshop in Kuantan! Check out the link below
URL:https://maps-malaysia.org/event/bowel-anastomosis-workshop-pahang/
LOCATION:Widad University\, Kuantan\, Malaysia
CATEGORIES:Workshop / Seminar
ATTACH;FMTTYPE=image/jpeg:https://maps-malaysia.org/wp-content/uploads/2025/05/crop-bowel-anastomosis-kuantan.jpg
END:VEVENT
END:VCALENDAR