BEGIN:VCALENDAR
VERSION:2.0
PRODID:-//Malaysian Association of Paediatric Surgery - ECPv6.10.0//NONSGML v1.0//EN
CALSCALE:GREGORIAN
METHOD:PUBLISH
X-ORIGINAL-URL:https://maps-malaysia.org
X-WR-CALDESC:Events for Malaysian Association of Paediatric Surgery
REFRESH-INTERVAL;VALUE=DURATION:PT1H
X-Robots-Tag:noindex
X-PUBLISHED-TTL:PT1H
BEGIN:VTIMEZONE
TZID:Asia/Kuala_Lumpur
BEGIN:STANDARD
TZOFFSETFROM:+0800
TZOFFSETTO:+0800
TZNAME:+08
DTSTART:20250101T000000
END:STANDARD
END:VTIMEZONE
BEGIN:VEVENT
DTSTART;TZID=Asia/Kuala_Lumpur:20250813T080000
DTEND;TZID=Asia/Kuala_Lumpur:20250814T170000
DTSTAMP:20260425T205923
CREATED:20250711T034227Z
LAST-MODIFIED:20250711T035417Z
UID:4212-1755072000-1755190800@maps-malaysia.org
SUMMARY:Cloaca Workshop UKM
DESCRIPTION:Learn from the master! The Paediatric Surgery team of Hospital Tunku Ampuan Besar Tuanku Aishah Rohani\, Hospital Pakar Kanak-kanak UKM will be conducting a live Cloaca Workshop. Learn to navigate through the complex decision making of operating a patient with cloacal anomaly from Mr Yusof of Hospital Tunku Azizah. Don’t miss this chance! \n \nRegister here.
URL:https://maps-malaysia.org/event/cloaca_workshop_ukm/
LOCATION:Hospital Tunku Ampuan Besar Tuanku Aishah Rohani\, Hospital Pakar Kanak-kanak UKM
CATEGORIES:Workshop / Seminar
ATTACH;FMTTYPE=image/png:https://maps-malaysia.org/wp-content/uploads/2025/07/screenshot-2025-07-11-at-11.45.12-am.png
END:VEVENT
END:VCALENDAR