BEGIN:VCALENDAR
VERSION:2.0
PRODID:-//Malaysian Association of Paediatric Surgery - ECPv6.10.0//NONSGML v1.0//EN
CALSCALE:GREGORIAN
METHOD:PUBLISH
X-WR-CALNAME:Malaysian Association of Paediatric Surgery
X-ORIGINAL-URL:https://maps-malaysia.org
X-WR-CALDESC:Events for Malaysian Association of Paediatric Surgery
REFRESH-INTERVAL;VALUE=DURATION:PT1H
X-Robots-Tag:noindex
X-PUBLISHED-TTL:PT1H
BEGIN:VTIMEZONE
TZID:Asia/Kuala_Lumpur
BEGIN:STANDARD
TZOFFSETFROM:+0800
TZOFFSETTO:+0800
TZNAME:+08
DTSTART:20250101T000000
END:STANDARD
END:VTIMEZONE
BEGIN:VEVENT
DTSTART;TZID=Asia/Kuala_Lumpur:20250920T080000
DTEND;TZID=Asia/Kuala_Lumpur:20250920T160000
DTSTAMP:20260425T192704
CREATED:20250826T105936Z
LAST-MODIFIED:20250827T095346Z
UID:4290-1758355200-1758384000@maps-malaysia.org
SUMMARY:Bengkel Kepimpinan Pembedahan Pediatrik (Paediatric Surgery Leadership Workshop)
DESCRIPTION:Bahagian Perkembangan Perubatan\, Kementerian Kesihatan Malaysia dengan kerjasama Persatuan Pembedahan Pediatrik Malaysia (MAPS) akan mengadakan Bengkel Kepimpinan Pembedahan Pediatrik pada 20th September 2025 di Double Tree by Hilton\, Putrajaya. \nBengkel ini bertujuan memberi pendedahan kepada pakar-pakar dan pelajar sarjana pembedahan pediatrik tentang kepimpinan di tempat kerja. Bengkel ini akan dihadiri oleh Dato Dr Mohd Azman bin Yacob\, Pengarah Bahagian Perkembangan Perubatan\, Kementerian Kesihatan Malaysia.  \nJom Join! \nClick here to register. \nCheckout the program tentative below:
URL:https://maps-malaysia.org/event/bengkel_kepimpinanan_2025/
LOCATION:Double Tree by Hilton\, Putrajaya
CATEGORIES:Events,Workshop / Seminar
ATTACH;FMTTYPE=image/jpeg:https://maps-malaysia.org/wp-content/uploads/2025/08/whatsapp-image-2025-08-26-at-12.17.48-pm-copy.jpg
END:VEVENT
END:VCALENDAR