BEGIN:VCALENDAR
VERSION:2.0
PRODID:-//Malaysian Association of Paediatric Surgery - ECPv6.10.0//NONSGML v1.0//EN
CALSCALE:GREGORIAN
METHOD:PUBLISH
X-ORIGINAL-URL:https://maps-malaysia.org
X-WR-CALDESC:Events for Malaysian Association of Paediatric Surgery
REFRESH-INTERVAL;VALUE=DURATION:PT1H
X-Robots-Tag:noindex
X-PUBLISHED-TTL:PT1H
BEGIN:VTIMEZONE
TZID:Asia/Kuala_Lumpur
BEGIN:STANDARD
TZOFFSETFROM:+0800
TZOFFSETTO:+0800
TZNAME:+08
DTSTART:20250101T000000
END:STANDARD
END:VTIMEZONE
BEGIN:VEVENT
DTSTART;TZID=Asia/Kuala_Lumpur:20250927T073000
DTEND;TZID=Asia/Kuala_Lumpur:20250927T170000
DTSTAMP:20260425T193059
CREATED:20250725T044433Z
LAST-MODIFIED:20250725T045637Z
UID:4259-1758958200-1758992400@maps-malaysia.org
SUMMARY:1st Southern Paediatric Surgical Course
DESCRIPTION:Hospital Melaka Paediatric Surgery will be hosting the 1st Southern Paediatric Surgical Course in conjunction with the 2nd Melaka Paediatric Surgical Awareness Course 2025 on the 27th September 2025\, at The Amverton Heritage Resort\, Melaka. The course aims to improve understanding and knowledge in the field of paediatric surgery.  We cordially invite you to join us for this year’s event. All healthcare professionals\, in both private and government setting is encouraged to join. \nClick here to register. \nCheckout the program tentative below:
URL:https://maps-malaysia.org/event/southpaedsurgcourse_2025/
LOCATION:Amverton Heritage Resort\, Melaka\, Malaysia
CATEGORIES:Events,Workshop / Seminar
ATTACH;FMTTYPE=image/jpeg:https://maps-malaysia.org/wp-content/uploads/2025/07/whatsapp-image-2025-07-25-at-12.04.20-pm-copy.jpg
END:VEVENT
END:VCALENDAR