BEGIN:VCALENDAR
VERSION:2.0
PRODID:-//Malaysian Association of Paediatric Surgery - ECPv6.10.0//NONSGML v1.0//EN
CALSCALE:GREGORIAN
METHOD:PUBLISH
X-ORIGINAL-URL:https://maps-malaysia.org
X-WR-CALDESC:Events for Malaysian Association of Paediatric Surgery
REFRESH-INTERVAL;VALUE=DURATION:PT1H
X-Robots-Tag:noindex
X-PUBLISHED-TTL:PT1H
BEGIN:VTIMEZONE
TZID:Asia/Kuala_Lumpur
BEGIN:STANDARD
TZOFFSETFROM:+0800
TZOFFSETTO:+0800
TZNAME:+08
DTSTART:20250101T000000
END:STANDARD
END:VTIMEZONE
BEGIN:VEVENT
DTSTART;TZID=Asia/Kuala_Lumpur:20250929T080000
DTEND;TZID=Asia/Kuala_Lumpur:20250929T170000
DTSTAMP:20260425T192929
CREATED:20250725T000304Z
LAST-MODIFIED:20250725T035030Z
UID:4251-1759132800-1759165200@maps-malaysia.org
SUMMARY:Paediatric and Neonatal Bowel Anastomosis Workshop 2025
DESCRIPTION:Calling all trainees and medical officers! Take the opportunity to practice bowel anastomosis with experienced paediatric surgeons. Slots are limited! \n \nClick here for more info.
URL:https://maps-malaysia.org/event/bowelanastomosis_2025/
LOCATION:Institut Latihan KKM Sultan Azlan Shah\, Tanjung Rambutan\, Malaysia
CATEGORIES:Workshop / Seminar
ATTACH;FMTTYPE=image/jpeg:https://maps-malaysia.org/wp-content/uploads/2025/07/whatsapp-image-2025-07-25-at-7.14.54-am-copy.jpg
END:VEVENT
END:VCALENDAR