BEGIN:VCALENDAR
VERSION:2.0
PRODID:-//Malaysian Association of Paediatric Surgery - ECPv6.10.0//NONSGML v1.0//EN
CALSCALE:GREGORIAN
METHOD:PUBLISH
X-WR-CALNAME:Malaysian Association of Paediatric Surgery
X-ORIGINAL-URL:https://maps-malaysia.org
X-WR-CALDESC:Events for Malaysian Association of Paediatric Surgery
REFRESH-INTERVAL;VALUE=DURATION:PT1H
X-Robots-Tag:noindex
X-PUBLISHED-TTL:PT1H
BEGIN:VTIMEZONE
TZID:Asia/Kuala_Lumpur
BEGIN:STANDARD
TZOFFSETFROM:+0800
TZOFFSETTO:+0800
TZNAME:+08
DTSTART:20250101T000000
END:STANDARD
END:VTIMEZONE
BEGIN:VEVENT
DTSTART;TZID=Asia/Kuala_Lumpur:20250427T133000
DTEND;TZID=Asia/Kuala_Lumpur:20250427T180000
DTSTAMP:20260426T111417
CREATED:20250221T134149Z
LAST-MODIFIED:20250308T103308Z
UID:3588-1745760600-1745776800@maps-malaysia.org
SUMMARY:MAPS AGM 2025
DESCRIPTION:Join Us for the Annual MAPS AGM! \nPre-AGM Programme (Tentative):\n Keynote Sessions: \n\nPaediatric Surgery Subspecialty Roadmap\nCommunication in Child Health: Advocacy and Legal Considerations (tbc)\n\n #AMA (Ask Me Anything) Sessions: \n\nNeurogenic Bladder\nPaediatric Surgery Outreach Programmes in Malaysia: Challenges & Triumphs\n\nThe programme will conclude with the AGM and the launch of our new and improved MAPS website. \n High Tea Will Be Served after the AGM\nMAPS will not charge members for the pre-AGM programme and high tea. To help reduce food wastage\, we kindly ask that you register only if you are committed to attending. \nClick here to register. \nStay informed. Stay connected. See you there!
URL:https://maps-malaysia.org/event/maps-agm-2025/
LOCATION:Sunway Sanctuary\, 5\, Jalan Lagoon Selatan\, Bandar Sunway\, Selangor\, Subang Jaya\, 47500\, Malaysia
CATEGORIES:AGM
ATTACH;FMTTYPE=image/jpeg:https://maps-malaysia.org/wp-content/uploads/2025/02/freepik__expand__30527.jpeg
END:VEVENT
END:VCALENDAR